BEGIN:VCALENDAR
VERSION:2.0
CALSCALE:GREGORIAN
METHOD:PUBLISH
X-WR-TIMEZONE:Australia/Sydney
BEGIN:VTIMEZONE
TZID:Australia/Sydney
BEGIN:STANDARD
TZNAME:AEST
DTSTART:19700101T000000
TZOFFSETFROM:+1100
TZOFFSETTO:+1000
END:STANDARD
END:VTIMEZONE
BEGIN:VEVENT
DTSTART;TZID=Australia/Sydney:20260402
DTEND;TZID=Australia/Sydney:20260402
DTSTAMP:20260423T021021
UID:249
SUMMARY:OUT OF UNIFORM DAY – gold coin donation please 
DESCRIPTION:




Last Day of School &amp;ndash; Out of Uniform Day!To celebrate the end of a fantastic school term, students are invited to come out of uniform on the last day of school. It&amp;rsquo;s a fun way to finish the term, show your personality, and enjoy a relaxed day with friends. Don&amp;rsquo;t forget to follow our usual school safety and dress guidelines!


SEQUENCE:0
STATUS:CONFIRMED
TRANSP:OPAQUE
END:VEVENT
END:VCALENDAR