BEGIN:VCALENDAR
VERSION:2.0
CALSCALE:GREGORIAN
METHOD:PUBLISH
X-WR-TIMEZONE:Australia/Sydney
BEGIN:VTIMEZONE
TZID:Australia/Sydney
BEGIN:STANDARD
TZNAME:AEST
DTSTART:19700101T000000
TZOFFSETFROM:+1100
TZOFFSETTO:+1000
END:STANDARD
END:VTIMEZONE
BEGIN:VEVENT
DTSTART;TZID=Australia/Sydney:20260402
DTEND;TZID=Australia/Sydney:20260402
DTSTAMP:20260423T020224
UID:248
SUMMARY:STUDENT AWARDS
DESCRIPTION:




Our end of Term is always a time of celebration. We have a final assembly on the last day of term where we present special awards in each class. This year the awards have changed from past years, with new awards in the pipeline. These include THE ENGLISH AWARD and THE MATHEMATICS AWARD &amp;ndash; presented to a student for either showing great growth in one of these areas or excelling. OUTSTANDING DEMONSTRATION OF SCHOOL VALUES will remain and we will introduce a SPECIALIST AWARD for each room with one of our specialist teachers choosing a winner from each grade for excellent work in their area of study. If your maths is on-point, this will mean that that there are only 4 awards presented per class, making the selection and announcement of winners even more special. In the final newsletter of term we will advise our winners in advance so families can endeavour to make the final assembly to see their child presented! This Award presentation will happen straight after our Easter Hat Parade on Thursday the 2nd of April ?.


SEQUENCE:0
STATUS:CONFIRMED
TRANSP:OPAQUE
END:VEVENT
END:VCALENDAR