BEGIN:VCALENDAR
VERSION:2.0
CALSCALE:GREGORIAN
METHOD:PUBLISH
X-WR-TIMEZONE:Australia/Sydney
BEGIN:VTIMEZONE
TZID:Australia/Sydney
BEGIN:STANDARD
TZNAME:AEST
DTSTART:19700101T000000
TZOFFSETFROM:+1100
TZOFFSETTO:+1000
END:STANDARD
END:VTIMEZONE
BEGIN:VEVENT
DTSTART;TZID=Australia/Sydney:20260402
DTEND;TZID=Australia/Sydney:20260402
DTSTAMP:20260423T020204
UID:247
SUMMARY:Easter Hat Parade
DESCRIPTION:




We have an Easter Hat Parade scheduled for the morning of Thursday the 2nd of April at 9am. All children are encouraged to come to school with Easter Themed hats (or another themed hat of a child&amp;rsquo;s choice if Easter is not celebrated). We will have each class do a couple of laps of the undercover area, with judges selected to choose finalists&amp;hellip;and awards presented to the winners in each class. This is also the last day of Term 1 and a fun way to finish, so why not get behind our first EASTER HAT PARADE by helping your child prepare. There&amp;rsquo;s no need to go to a lot of trouble &amp;ndash; it&amp;rsquo;s all in the name of fun&amp;hellip;so please don&amp;rsquo;t feel you have to spend hours on the construction.


SEQUENCE:0
STATUS:CONFIRMED
TRANSP:OPAQUE
END:VEVENT
END:VCALENDAR